BEGIN:VCALENDAR
VERSION:2.0
PRODID:-//5.44.111.80//NONSGML kigkonsult.se iCalcreator 2.20//
CALSCALE:GREGORIAN
METHOD:PUBLISH
X-WR-TIMEZONE:Europe/Berlin
BEGIN:VEVENT
UID:event55@Kreisfeuerwehrverband Saarlouis
DTSTAMP:20260424T155232Z
CATEGORIES:Feuerwehrjubiläum\, Feuerwehrfeste
DESCRIPTION:Tag der offenen Tür + Festakt 60 Jahre JFW LB SLS Lisdorf\nKate
 gorie: Feuerwehrjubiläum\, Feuerwehrfeste\nICS-Link: https://kfv-sls.de/in
 dex.php?option=com_jem&view=event&id=55:tag-der-offenen-tuer-festakt-60-ja
 hre-jfw-lb-sls-lisdorf\n
DTSTART;VALUE=DATE:20260822
DTEND;VALUE=DATE:20260823
LOCATION:FF Saarlouis - Lbz. Lisdorf\,Großstraße 54\,66740 Saarlouis
SUMMARY:Tag der offenen Tür + Festakt 60 Jahre JFW LB SLS Lisdorf
URL:https://kfv-sls.de/index.php?option=com_jem&view=event&id=55:tag-der-of
 fenen-tuer-festakt-60-jahre-jfw-lb-sls-lisdorf
END:VEVENT
END:VCALENDAR