BEGIN:VCALENDAR
VERSION:2.0
PRODID:-//5.44.111.80//NONSGML kigkonsult.se iCalcreator 2.20//
CALSCALE:GREGORIAN
METHOD:PUBLISH
X-WR-TIMEZONE:Europe/Berlin
BEGIN:VEVENT
UID:event35@Kreisfeuerwehrverband Saarlouis
DTSTAMP:20260424T141053Z
CATEGORIES:Feuerwehrfeste
DESCRIPTION:Feuerwehrfest LB Dörsdorf\nKategorie: Feuerwehrfeste\nICS-Link:
  https://kfv-sls.de/index.php?option=com_jem&view=event&id=35:feuerwehrfes
 t-lb-doersdorf\n
DTSTART;VALUE=DATE:20260516
DTEND;VALUE=DATE:20260517
LOCATION:FF Lebach - Lbz. Dörsdorf\,Scheuernstraße 61\,66822 Lebach
SUMMARY:Feuerwehrfest LB Dörsdorf
URL:https://kfv-sls.de/index.php?option=com_jem&view=event&id=35:feuerwehrf
 est-lb-doersdorf
END:VEVENT
BEGIN:VEVENT
UID:event39@Kreisfeuerwehrverband Saarlouis
DTSTAMP:20260424T141053Z
CATEGORIES:Sonstige Veranstaltung
DESCRIPTION:Suppentag LB Dörsdorf\nKategorie: Sonstige Veranstaltung\nICS-L
 ink: https://kfv-sls.de/index.php?option=com_jem&view=event&id=39:suppenta
 g-lb-doersdorf\n
DTSTART;VALUE=DATE:20261101
DTEND;VALUE=DATE:20261102
LOCATION:FF Lebach - Lbz. Dörsdorf\,Scheuernstraße 61\,66822 Lebach
SUMMARY:Suppentag LB Dörsdorf
URL:https://kfv-sls.de/index.php?option=com_jem&view=event&id=39:suppentag-
 lb-doersdorf
END:VEVENT
END:VCALENDAR