BEGIN:VCALENDAR
VERSION:2.0
PRODID:-//5.44.111.80//NONSGML kigkonsult.se iCalcreator 2.20//
CALSCALE:GREGORIAN
METHOD:PUBLISH
X-WR-TIMEZONE:Europe/Berlin
BEGIN:VEVENT
UID:event53@Kreisfeuerwehrverband Saarlouis
DTSTAMP:20260424T172214Z
CATEGORIES:Übung / Ausbildung
DESCRIPTION:Jahreshauptübung FFW Schmelz\nKategorie: Übung / Ausbildung\nIC
 S-Link: https://kfv-sls.de/index.php?option=com_jem&view=event&id=53:jahre
 shauptuebung-ffw-schmelz\n
DTSTART;VALUE=DATE:20260926
DTEND;VALUE=DATE:20260927
LOCATION:FF Schmelz - Lbz. Michelbach\,Zum Lückner 18\,66839 Schmelz
SUMMARY:Jahreshauptübung FFW Schmelz
URL:https://kfv-sls.de/index.php?option=com_jem&view=event&id=53:jahreshaup
 tuebung-ffw-schmelz
END:VEVENT
END:VCALENDAR