BEGIN:VCALENDAR
VERSION:2.0
PRODID:-//5.44.111.80//NONSGML kigkonsult.se iCalcreator 2.20//
CALSCALE:GREGORIAN
METHOD:PUBLISH
X-WR-TIMEZONE:Europe/Berlin
BEGIN:VEVENT
UID:event49@Kreisfeuerwehrverband Saarlouis
DTSTAMP:20260424T172141Z
CATEGORIES:Feuerwehrjubiläum
DESCRIPTION:125 Jahre Feuerwehr Elm\nKategorie: Feuerwehrjubiläum\nICS-Link
 : https://kfv-sls.de/index.php?option=com_jem&view=event&id=49:125-jahre-f
 euerwehr-elm\n
DTSTART;VALUE=DATE:20261017
DTEND;VALUE=DATE:20261019
LOCATION:FF Schwalbach - Lbz. Elm\,Grubenstraße 1a\,66773 Schwalbach
SUMMARY:125 Jahre Feuerwehr Elm
URL:https://kfv-sls.de/index.php?option=com_jem&view=event&id=49:125-jahre-
 feuerwehr-elm
END:VEVENT
END:VCALENDAR